BEGIN:VCALENDAR
VERSION:2.0
PRODID:-//Podstawowa - ECPv6.15.20//NONSGML v1.0//EN
CALSCALE:GREGORIAN
METHOD:PUBLISH
X-ORIGINAL-URL:https://podstawowa.platerki.pl
X-WR-CALDESC:Wydarzenia dla Podstawowa
REFRESH-INTERVAL;VALUE=DURATION:PT1H
X-Robots-Tag:noindex
X-PUBLISHED-TTL:PT1H
BEGIN:VTIMEZONE
TZID:Europe/Warsaw
BEGIN:DAYLIGHT
TZOFFSETFROM:+0100
TZOFFSETTO:+0200
TZNAME:CEST
DTSTART:20230326T010000
END:DAYLIGHT
BEGIN:STANDARD
TZOFFSETFROM:+0200
TZOFFSETTO:+0100
TZNAME:CET
DTSTART:20231029T010000
END:STANDARD
BEGIN:DAYLIGHT
TZOFFSETFROM:+0100
TZOFFSETTO:+0200
TZNAME:CEST
DTSTART:20240331T010000
END:DAYLIGHT
BEGIN:STANDARD
TZOFFSETFROM:+0200
TZOFFSETTO:+0100
TZNAME:CET
DTSTART:20241027T010000
END:STANDARD
BEGIN:DAYLIGHT
TZOFFSETFROM:+0100
TZOFFSETTO:+0200
TZNAME:CEST
DTSTART:20250330T010000
END:DAYLIGHT
BEGIN:STANDARD
TZOFFSETFROM:+0200
TZOFFSETTO:+0100
TZNAME:CET
DTSTART:20251026T010000
END:STANDARD
BEGIN:DAYLIGHT
TZOFFSETFROM:+0100
TZOFFSETTO:+0200
TZNAME:CEST
DTSTART:20260329T010000
END:DAYLIGHT
BEGIN:STANDARD
TZOFFSETFROM:+0200
TZOFFSETTO:+0100
TZNAME:CET
DTSTART:20261025T010000
END:STANDARD
END:VTIMEZONE
BEGIN:VEVENT
DTSTART;VALUE=DATE:20241223
DTEND;VALUE=DATE:20250107
DTSTAMP:20260421T115938
CREATED:20240913T102433Z
LAST-MODIFIED:20240913T102433Z
UID:3808-1734912000-1736207999@podstawowa.platerki.pl
SUMMARY:Przerwa Świąteczna
DESCRIPTION:
URL:https://podstawowa.platerki.pl/kalendarz/przerwa-swiateczna/
END:VEVENT
BEGIN:VEVENT
DTSTART;VALUE=DATE:20250107
DTEND;VALUE=DATE:20250109
DTSTAMP:20260421T115938
CREATED:20240913T102645Z
LAST-MODIFIED:20251125T163604Z
UID:3810-1736208000-1736380799@podstawowa.platerki.pl
SUMMARY:Spotkania indywidualne z rodzicami kandydatów do SP
DESCRIPTION:serdecznie zapraszamy na spotkania z rodzicami biorącymi udział w rekrutacji do Platerek. Na spotkania obowiązują zapisy!
URL:https://podstawowa.platerki.pl/kalendarz/spotkania-indywidualne-z-rodzicami-kandydatow-do-sp/
END:VEVENT
BEGIN:VEVENT
DTSTART;TZID=Europe/Warsaw:20250107T143000
DTEND;TZID=Europe/Warsaw:20250107T173000
DTSTAMP:20260421T115938
CREATED:20241115T142050Z
LAST-MODIFIED:20250218T150024Z
UID:4182-1736260200-1736271000@podstawowa.platerki.pl
SUMMARY:Spotkanie indywidualne dla rodziców kandydatów do klasy 1 SP
DESCRIPTION:Już 7 stycznia 2025 roku w Platerkach odbędzie się wyjątkowe spotkanie\, podczas którego będziecie mogli poznać naszą szkołę i jej niepowtarzalny charakter. To doskonała okazja\, by na własne oczy zobaczyć zabytkowe mury naszej placówki i poczuć jej niezwykłą atmosferę. \nPodczas wizyty opowiemy o wartościach\, które są dla nas fundamentem w procesie edukacji. W Platerkach wierzymy\, że każde dziecko zasługuje na indywidualne podejście\, rozwój w atmosferze szacunku oraz wsparcie w odkrywaniu swoich talentów. Chcemy\, abyście mogli lepiej zrozumieć\, jak dbamy o rozwój naszych uczniów i dlaczego warto nam zaufać. \nTo spotkanie to także czas na rozmowę i lepsze poznanie Was – rodziców\, którzy odegrają kluczową rolę w drodze edukacyjnej swoich dzieci. Z przyjemnością odpowiemy na Wasze pytania i wysłuchamy Waszych oczekiwań. \nProsimy o wcześniejszy zapis za pomocą panelu znajdującego się z prawej strony\, abyśmy mogli zapewnić każdemu z Państwa indywidualny czas na rozmowę. Czekamy na Was w Platerkach i zapraszamy serdecznie! \n			\n			\n				\n				\n				\n				\n				\n				\n				\n				\n				\n				Zapisy zostały zamknięte! Zapraszamy na kolejne spotkania!
URL:https://podstawowa.platerki.pl/kalendarz/spotkanie-indywidualne-dla-rodzicow-kandydatow-do-klasy-1-sp/
END:VEVENT
BEGIN:VEVENT
DTSTART;TZID=Europe/Warsaw:20250108T143000
DTEND;TZID=Europe/Warsaw:20250108T173000
DTSTAMP:20260421T115938
CREATED:20241115T143903Z
LAST-MODIFIED:20250218T145837Z
UID:4190-1736346600-1736357400@podstawowa.platerki.pl
SUMMARY:Spotkanie indywidualne dla rodziców kandydatów do klasy 1 SP
DESCRIPTION:UWAGA!! W związku z bardzo dużym zainteresowaniem udziałem w rekrutacji\, uruchomiliśmy dodatkową turę zapisów dostępną w panelu po prawej stronie! \nJuż 8 stycznia 2025 roku w Platerkach odbędzie się wyjątkowe spotkanie\, podczas którego będziecie mogli poznać naszą szkołę i jej niepowtarzalny charakter. To doskonała okazja\, by na własne oczy zobaczyć zabytkowe mury naszej placówki i poczuć jej niezwykłą atmosferę. \nPodczas wizyty opowiemy o wartościach\, które są dla nas fundamentem w procesie edukacji. W Platerkach wierzymy\, że każde dziecko zasługuje na indywidualne podejście\, rozwój w atmosferze szacunku oraz wsparcie w odkrywaniu swoich talentów. Chcemy\, abyście mogli lepiej zrozumieć\, jak dbamy o rozwój naszych uczniów i dlaczego warto nam zaufać. \nTo spotkanie to także czas na rozmowę i lepsze poznanie Was – rodziców\, którzy odegrają kluczową rolę w drodze edukacyjnej swoich dzieci. Z przyjemnością odpowiemy na Wasze pytania i wysłuchamy Waszych oczekiwań. \nProsimy o wcześniejszy zapis za pomocą panelu znajdującego się z prawej strony\, abyśmy mogli zapewnić każdemu z Państwa indywidualny czas na rozmowę. Czekamy na Was w Platerkach i zapraszamy serdecznie! \n			\n			\n				\n				\n				\n				\n				\n				\n				\n				\n				\n				Zapisy zostały zamknięte! Zapraszamy na kolejne spotkania!
URL:https://podstawowa.platerki.pl/kalendarz/spotkanie-indywidualne-dla-rodzicow-kandydatow-do-klasy-1-sp-2/
END:VEVENT
BEGIN:VEVENT
DTSTART;VALUE=DATE:20250111
DTEND;VALUE=DATE:20250112
DTSTAMP:20260421T115939
CREATED:20240913T102822Z
LAST-MODIFIED:20250108T101248Z
UID:3812-1736553600-1736639999@podstawowa.platerki.pl
SUMMARY:Spotkanie z dziećmi biorącymi udział w rekrutacji do klasy 1SP
DESCRIPTION:Serdecznie zapraszamy rodziców wraz z dziećmi biorącymi udział w rekrutacji do klasy 1 SP do budynku naszej szkoły o godzinie 10:00!
URL:https://podstawowa.platerki.pl/kalendarz/spotkanie-z-dziecmi-bioracymi-udzial-w-rekrutacji-do-klasy-1sp/
END:VEVENT
BEGIN:VEVENT
DTSTART;TZID=Europe/Warsaw:20250114T150000
DTEND;TZID=Europe/Warsaw:20250114T173000
DTSTAMP:20260421T115939
CREATED:20250108T170108Z
LAST-MODIFIED:20250113T104142Z
UID:4225-1736866800-1736875800@podstawowa.platerki.pl
SUMMARY:Spotkanie indywidualne dla rodziców kandydatów do klasy 1 SP
DESCRIPTION:Już 14 stycznia 2025 roku w Platerkach odbędzie się wyjątkowe spotkanie\, podczas którego będziecie mogli poznać naszą szkołę i jej niepowtarzalny charakter. To doskonała okazja\, by na własne oczy zobaczyć zabytkowe mury naszej placówki i poczuć jej niezwykłą atmosferę. \nPodczas wizyty opowiemy o wartościach\, które są dla nas fundamentem w procesie edukacji. W Platerkach wierzymy\, że każde dziecko zasługuje na indywidualne podejście\, rozwój w atmosferze szacunku oraz wsparcie w odkrywaniu swoich talentów. Chcemy\, abyście mogli lepiej zrozumieć\, jak dbamy o rozwój naszych uczniów i dlaczego warto nam zaufać. \nTo spotkanie to także czas na rozmowę i lepsze poznanie Was – rodziców\, którzy odegrają kluczową rolę w drodze edukacyjnej swoich dzieci. Z przyjemnością odpowiemy na Wasze pytania i wysłuchamy Waszych oczekiwań. \nProsimy o wcześniejszy zapis za pomocą panelu znajdującego się z prawej strony\, abyśmy mogli zapewnić każdemu z Państwa indywidualny czas na rozmowę. Czekamy na Was w Platerkach i zapraszamy serdecznie! \n			\n			\n				\n				\n				\n				\n				\n				\n				\n				\n				\n				Lista spotkań została zamknięta. Dziękujemy za wszystkie dokonane rezerwacje!
URL:https://podstawowa.platerki.pl/kalendarz/spotkanie-indywidualne-dla-rodzicow-kandydatow-do-klasy-1-sp-3/
END:VEVENT
BEGIN:VEVENT
DTSTART;VALUE=DATE:20250126
DTEND;VALUE=DATE:20250127
DTSTAMP:20260421T115939
CREATED:20240913T102853Z
LAST-MODIFIED:20240913T102853Z
UID:3814-1737849600-1737935999@podstawowa.platerki.pl
SUMMARY:Finał WOŚP
DESCRIPTION:
URL:https://podstawowa.platerki.pl/kalendarz/final-wosp/
END:VEVENT
BEGIN:VEVENT
DTSTART;TZID=Europe/Warsaw:20250128T120000
DTEND;TZID=Europe/Warsaw:20250128T140000
DTSTAMP:20260421T115939
CREATED:20240913T103015Z
LAST-MODIFIED:20240913T103015Z
UID:3816-1738065600-1738072800@podstawowa.platerki.pl
SUMMARY:Jasełka klasy 2
DESCRIPTION:
URL:https://podstawowa.platerki.pl/kalendarz/jaselka-klasy-2/
END:VEVENT
BEGIN:VEVENT
DTSTART;TZID=Europe/Warsaw:20250129T090000
DTEND;TZID=Europe/Warsaw:20250129T120000
DTSTAMP:20260421T115939
CREATED:20240913T103101Z
LAST-MODIFIED:20240913T103101Z
UID:3818-1738141200-1738152000@podstawowa.platerki.pl
SUMMARY:Filharmonia Narodowa - Aula
DESCRIPTION:
URL:https://podstawowa.platerki.pl/kalendarz/filharmonia-narodowa-aula-4/
END:VEVENT
END:VCALENDAR