BEGIN:VCALENDAR
VERSION:2.0
PRODID:-//Podstawowa - ECPv6.15.20//NONSGML v1.0//EN
CALSCALE:GREGORIAN
METHOD:PUBLISH
X-WR-CALNAME:Podstawowa
X-ORIGINAL-URL:https://podstawowa.platerki.pl
X-WR-CALDESC:Wydarzenia dla Podstawowa
REFRESH-INTERVAL;VALUE=DURATION:PT1H
X-Robots-Tag:noindex
X-PUBLISHED-TTL:PT1H
BEGIN:VTIMEZONE
TZID:Europe/Warsaw
BEGIN:DAYLIGHT
TZOFFSETFROM:+0100
TZOFFSETTO:+0200
TZNAME:CEST
DTSTART:20240331T010000
END:DAYLIGHT
BEGIN:STANDARD
TZOFFSETFROM:+0200
TZOFFSETTO:+0100
TZNAME:CET
DTSTART:20241027T010000
END:STANDARD
BEGIN:DAYLIGHT
TZOFFSETFROM:+0100
TZOFFSETTO:+0200
TZNAME:CEST
DTSTART:20250330T010000
END:DAYLIGHT
BEGIN:STANDARD
TZOFFSETFROM:+0200
TZOFFSETTO:+0100
TZNAME:CET
DTSTART:20251026T010000
END:STANDARD
BEGIN:DAYLIGHT
TZOFFSETFROM:+0100
TZOFFSETTO:+0200
TZNAME:CEST
DTSTART:20260329T010000
END:DAYLIGHT
BEGIN:STANDARD
TZOFFSETFROM:+0200
TZOFFSETTO:+0100
TZNAME:CET
DTSTART:20261025T010000
END:STANDARD
END:VTIMEZONE
BEGIN:VEVENT
DTSTART;VALUE=DATE:20250402
DTEND;VALUE=DATE:20250403
DTSTAMP:20260421T121801
CREATED:20240913T110417Z
LAST-MODIFIED:20240913T110417Z
UID:3871-1743552000-1743638399@podstawowa.platerki.pl
SUMMARY:Dzień neuroróżnorodności
DESCRIPTION:
URL:https://podstawowa.platerki.pl/kalendarz/dzien-neuroroznorodnosci/
END:VEVENT
BEGIN:VEVENT
DTSTART;VALUE=DATE:20250404
DTEND;VALUE=DATE:20250405
DTSTAMP:20260421T121801
CREATED:20240913T110523Z
LAST-MODIFIED:20240913T110523Z
UID:3873-1743724800-1743811199@podstawowa.platerki.pl
SUMMARY:Festiwal Języka i Kultury Francji 2025
DESCRIPTION:PROWANSJA i WYBRZEŻE LAZUROWE
URL:https://podstawowa.platerki.pl/kalendarz/festiwal-jezyka-i-kultury-francji-2025/
END:VEVENT
BEGIN:VEVENT
DTSTART;TZID=Europe/Warsaw:20250408T163000
DTEND;TZID=Europe/Warsaw:20250408T183000
DTSTAMP:20260421T121801
CREATED:20240913T110609Z
LAST-MODIFIED:20240913T110609Z
UID:3875-1744129800-1744137000@podstawowa.platerki.pl
SUMMARY:DZIEŃ OTWARTY ONLINE
DESCRIPTION:
URL:https://podstawowa.platerki.pl/kalendarz/dzien-otwarty-online-2/
END:VEVENT
BEGIN:VEVENT
DTSTART;VALUE=DATE:20250411
DTEND;VALUE=DATE:20250412
DTSTAMP:20260421T121801
CREATED:20240913T110643Z
LAST-MODIFIED:20240913T110643Z
UID:3878-1744329600-1744415999@podstawowa.platerki.pl
SUMMARY:KJF
DESCRIPTION:
URL:https://podstawowa.platerki.pl/kalendarz/kjf/
END:VEVENT
BEGIN:VEVENT
DTSTART;VALUE=DATE:20250417
DTEND;VALUE=DATE:20250423
DTSTAMP:20260421T121801
CREATED:20240913T110831Z
LAST-MODIFIED:20240913T110831Z
UID:3882-1744848000-1745366399@podstawowa.platerki.pl
SUMMARY:Przerwa Świąteczna
DESCRIPTION:
URL:https://podstawowa.platerki.pl/kalendarz/przerwa-swiateczna-2/
END:VEVENT
BEGIN:VEVENT
DTSTART;VALUE=DATE:20250423
DTEND;VALUE=DATE:20250424
DTSTAMP:20260421T121801
CREATED:20240913T110953Z
LAST-MODIFIED:20240913T110953Z
UID:3886-1745366400-1745452799@podstawowa.platerki.pl
SUMMARY:Szkolny dzień książki
DESCRIPTION:
URL:https://podstawowa.platerki.pl/kalendarz/szkolny-dzien-ksiazki/
END:VEVENT
BEGIN:VEVENT
DTSTART;VALUE=DATE:20250423
DTEND;VALUE=DATE:20250424
DTSTAMP:20260421T121801
CREATED:20240913T111027Z
LAST-MODIFIED:20240913T111027Z
UID:3888-1745366400-1745452799@podstawowa.platerki.pl
SUMMARY:szkolny konkurs taneczny
DESCRIPTION:
URL:https://podstawowa.platerki.pl/kalendarz/szkolny-konkurs-taneczny/
END:VEVENT
BEGIN:VEVENT
DTSTART;TZID=Europe/Warsaw:20250423T080000
DTEND;TZID=Europe/Warsaw:20250423T130000
DTSTAMP:20260421T121801
CREATED:20240913T110925Z
LAST-MODIFIED:20240913T110925Z
UID:3884-1745395200-1745413200@podstawowa.platerki.pl
SUMMARY:Śniadania wielkanocne
DESCRIPTION:
URL:https://podstawowa.platerki.pl/kalendarz/sniadania-wielkanocne/
END:VEVENT
BEGIN:VEVENT
DTSTART;VALUE=DATE:20250425
DTEND;VALUE=DATE:20250426
DTSTAMP:20260421T121801
CREATED:20240913T111121Z
LAST-MODIFIED:20240913T111121Z
UID:3890-1745539200-1745625599@podstawowa.platerki.pl
SUMMARY:obchody Konstytucji 3 maja
DESCRIPTION:przedstawienie klas 6 i 7
URL:https://podstawowa.platerki.pl/kalendarz/obchody-konstytucji-3-maja/
END:VEVENT
BEGIN:VEVENT
DTSTART;VALUE=DATE:20250428
DTEND;VALUE=DATE:20250430
DTSTAMP:20260421T121801
CREATED:20240913T111230Z
LAST-MODIFIED:20240913T111345Z
UID:3892-1745798400-1745971199@podstawowa.platerki.pl
SUMMARY:trzecioteścik
DESCRIPTION:
URL:https://podstawowa.platerki.pl/kalendarz/trzeciotescik/
END:VEVENT
BEGIN:VEVENT
DTSTART;TZID=Europe/Warsaw:20250430T090000
DTEND;TZID=Europe/Warsaw:20250430T120000
DTSTAMP:20260421T121801
CREATED:20240913T111423Z
LAST-MODIFIED:20240913T111423Z
UID:3894-1746003600-1746014400@podstawowa.platerki.pl
SUMMARY:Filharmonia Narodowa - Aula
DESCRIPTION:
URL:https://podstawowa.platerki.pl/kalendarz/filharmonia-narodowa-aula-7/
END:VEVENT
END:VCALENDAR