BEGIN:VCALENDAR
VERSION:2.0
PRODID:-//Podstawowa - ECPv6.15.20//NONSGML v1.0//EN
CALSCALE:GREGORIAN
METHOD:PUBLISH
X-ORIGINAL-URL:https://podstawowa.platerki.pl
X-WR-CALDESC:Wydarzenia dla Podstawowa
REFRESH-INTERVAL;VALUE=DURATION:PT1H
X-Robots-Tag:noindex
X-PUBLISHED-TTL:PT1H
BEGIN:VTIMEZONE
TZID:Europe/Warsaw
BEGIN:DAYLIGHT
TZOFFSETFROM:+0100
TZOFFSETTO:+0200
TZNAME:CEST
DTSTART:20240331T010000
END:DAYLIGHT
BEGIN:STANDARD
TZOFFSETFROM:+0200
TZOFFSETTO:+0100
TZNAME:CET
DTSTART:20241027T010000
END:STANDARD
BEGIN:DAYLIGHT
TZOFFSETFROM:+0100
TZOFFSETTO:+0200
TZNAME:CEST
DTSTART:20250330T010000
END:DAYLIGHT
BEGIN:STANDARD
TZOFFSETFROM:+0200
TZOFFSETTO:+0100
TZNAME:CET
DTSTART:20251026T010000
END:STANDARD
BEGIN:DAYLIGHT
TZOFFSETFROM:+0100
TZOFFSETTO:+0200
TZNAME:CEST
DTSTART:20260329T010000
END:DAYLIGHT
BEGIN:STANDARD
TZOFFSETFROM:+0200
TZOFFSETTO:+0100
TZNAME:CET
DTSTART:20261025T010000
END:STANDARD
END:VTIMEZONE
BEGIN:VEVENT
DTSTART;VALUE=DATE:20250501
DTEND;VALUE=DATE:20250502
DTSTAMP:20260421T134038
CREATED:20240913T111522Z
LAST-MODIFIED:20240913T111522Z
UID:3896-1746057600-1746143999@podstawowa.platerki.pl
SUMMARY:Święto Pracy
DESCRIPTION:
URL:https://podstawowa.platerki.pl/kalendarz/swieto-pracy/
END:VEVENT
BEGIN:VEVENT
DTSTART;VALUE=DATE:20250502
DTEND;VALUE=DATE:20250503
DTSTAMP:20260421T134038
CREATED:20240913T111545Z
LAST-MODIFIED:20240913T111545Z
UID:3899-1746144000-1746230399@podstawowa.platerki.pl
SUMMARY:Dzień Flagi
DESCRIPTION:
URL:https://podstawowa.platerki.pl/kalendarz/dzien-flagi/
END:VEVENT
BEGIN:VEVENT
DTSTART;VALUE=DATE:20250503
DTEND;VALUE=DATE:20250504
DTSTAMP:20260421T134038
CREATED:20240913T111606Z
LAST-MODIFIED:20240913T111606Z
UID:3902-1746230400-1746316799@podstawowa.platerki.pl
SUMMARY:Święto Konstytucji Trzeciego Maja
DESCRIPTION:
URL:https://podstawowa.platerki.pl/kalendarz/swieto-konstytucji-trzeciego-maja/
END:VEVENT
BEGIN:VEVENT
DTSTART;VALUE=DATE:20250505
DTEND;VALUE=DATE:20250510
DTSTAMP:20260421T134038
CREATED:20240913T111650Z
LAST-MODIFIED:20240913T111650Z
UID:3904-1746403200-1746835199@podstawowa.platerki.pl
SUMMARY:projekt sportowy
DESCRIPTION:
URL:https://podstawowa.platerki.pl/kalendarz/projekt-sportowy/
END:VEVENT
BEGIN:VEVENT
DTSTART;VALUE=DATE:20250513
DTEND;VALUE=DATE:20250514
DTSTAMP:20260421T134038
CREATED:20240913T111810Z
LAST-MODIFIED:20240913T111810Z
UID:3906-1747094400-1747180799@podstawowa.platerki.pl
SUMMARY:Egzamin ósmoklasisty
DESCRIPTION:język Polski
URL:https://podstawowa.platerki.pl/kalendarz/egzamin-osmoklasisty/
END:VEVENT
BEGIN:VEVENT
DTSTART;VALUE=DATE:20250513
DTEND;VALUE=DATE:20250516
DTSTAMP:20260421T134038
CREATED:20240913T112035Z
LAST-MODIFIED:20240913T112035Z
UID:3912-1747094400-1747353599@podstawowa.platerki.pl
SUMMARY:zielona szkoła EW
DESCRIPTION:
URL:https://podstawowa.platerki.pl/kalendarz/zielona-szkola-ew/
END:VEVENT
BEGIN:VEVENT
DTSTART;VALUE=DATE:20250514
DTEND;VALUE=DATE:20250515
DTSTAMP:20260421T134038
CREATED:20240913T111846Z
LAST-MODIFIED:20240913T111846Z
UID:3908-1747180800-1747267199@podstawowa.platerki.pl
SUMMARY:Egzamin ósmoklasisty
DESCRIPTION:matematyka
URL:https://podstawowa.platerki.pl/kalendarz/egzamin-osmoklasisty-2/
END:VEVENT
BEGIN:VEVENT
DTSTART;VALUE=DATE:20250515
DTEND;VALUE=DATE:20250516
DTSTAMP:20260421T134038
CREATED:20240913T111926Z
LAST-MODIFIED:20240913T111926Z
UID:3910-1747267200-1747353599@podstawowa.platerki.pl
SUMMARY:Egzamin ósmoklasisty
DESCRIPTION:język angielski
URL:https://podstawowa.platerki.pl/kalendarz/egzamin-osmoklasisty-3/
END:VEVENT
BEGIN:VEVENT
DTSTART;VALUE=DATE:20250517
DTEND;VALUE=DATE:20250518
DTSTAMP:20260421T134038
CREATED:20240913T112113Z
LAST-MODIFIED:20240913T112113Z
UID:3914-1747440000-1747526399@podstawowa.platerki.pl
SUMMARY:Rocznica Komunii
DESCRIPTION:
URL:https://podstawowa.platerki.pl/kalendarz/rocznica-komunii/
END:VEVENT
BEGIN:VEVENT
DTSTART;TZID=Europe/Warsaw:20250520T160000
DTEND;TZID=Europe/Warsaw:20250520T180000
DTSTAMP:20260421T134038
CREATED:20240913T112157Z
LAST-MODIFIED:20240913T112157Z
UID:3916-1747756800-1747764000@podstawowa.platerki.pl
SUMMARY:zebrania z rodzicami
DESCRIPTION:
URL:https://podstawowa.platerki.pl/kalendarz/zebrania-z-rodzicami/
END:VEVENT
BEGIN:VEVENT
DTSTART;TZID=Europe/Warsaw:20250521T090000
DTEND;TZID=Europe/Warsaw:20250521T120000
DTSTAMP:20260421T134038
CREATED:20240913T112238Z
LAST-MODIFIED:20240913T112238Z
UID:3918-1747818000-1747828800@podstawowa.platerki.pl
SUMMARY:Filharmonia Narodowa - Aula
DESCRIPTION:
URL:https://podstawowa.platerki.pl/kalendarz/filharmonia-narodowa-aula-8/
END:VEVENT
BEGIN:VEVENT
DTSTART;VALUE=DATE:20250524
DTEND;VALUE=DATE:20250525
DTSTAMP:20260421T134038
CREATED:20240913T112309Z
LAST-MODIFIED:20240913T112309Z
UID:3920-1748044800-1748131199@podstawowa.platerki.pl
SUMMARY:I Komunia Święta
DESCRIPTION:
URL:https://podstawowa.platerki.pl/kalendarz/i-komunia-swieta/
END:VEVENT
END:VCALENDAR