BEGIN:VCALENDAR
VERSION:2.0
PRODID:-//Podstawowa - ECPv6.15.20//NONSGML v1.0//EN
CALSCALE:GREGORIAN
METHOD:PUBLISH
X-ORIGINAL-URL:https://podstawowa.platerki.pl
X-WR-CALDESC:Wydarzenia dla Podstawowa
REFRESH-INTERVAL;VALUE=DURATION:PT1H
X-Robots-Tag:noindex
X-PUBLISHED-TTL:PT1H
BEGIN:VTIMEZONE
TZID:Europe/Warsaw
BEGIN:DAYLIGHT
TZOFFSETFROM:+0100
TZOFFSETTO:+0200
TZNAME:CEST
DTSTART:20240331T010000
END:DAYLIGHT
BEGIN:STANDARD
TZOFFSETFROM:+0200
TZOFFSETTO:+0100
TZNAME:CET
DTSTART:20241027T010000
END:STANDARD
BEGIN:DAYLIGHT
TZOFFSETFROM:+0100
TZOFFSETTO:+0200
TZNAME:CEST
DTSTART:20250330T010000
END:DAYLIGHT
BEGIN:STANDARD
TZOFFSETFROM:+0200
TZOFFSETTO:+0100
TZNAME:CET
DTSTART:20251026T010000
END:STANDARD
BEGIN:DAYLIGHT
TZOFFSETFROM:+0100
TZOFFSETTO:+0200
TZNAME:CEST
DTSTART:20260329T010000
END:DAYLIGHT
BEGIN:STANDARD
TZOFFSETFROM:+0200
TZOFFSETTO:+0100
TZNAME:CET
DTSTART:20261025T010000
END:STANDARD
END:VTIMEZONE
BEGIN:VEVENT
DTSTART;VALUE=DATE:20251107
DTEND;VALUE=DATE:20251108
DTSTAMP:20260421T122628
CREATED:20250912T190310Z
LAST-MODIFIED:20250912T190310Z
UID:4890-1762473600-1762559999@podstawowa.platerki.pl
SUMMARY:Wieczornica
DESCRIPTION:
URL:https://podstawowa.platerki.pl/kalendarz/wieczornica-2/
END:VEVENT
BEGIN:VEVENT
DTSTART;VALUE=DATE:20251110
DTEND;VALUE=DATE:20251112
DTSTAMP:20260421T122628
CREATED:20250912T190333Z
LAST-MODIFIED:20250912T190333Z
UID:4892-1762732800-1762905599@podstawowa.platerki.pl
SUMMARY:Dzień wolny Szkoły
DESCRIPTION:
URL:https://podstawowa.platerki.pl/kalendarz/dzien-wolny-szkoly/
END:VEVENT
BEGIN:VEVENT
DTSTART;VALUE=DATE:20251120
DTEND;VALUE=DATE:20251122
DTSTAMP:20260421T122628
CREATED:20250912T190407Z
LAST-MODIFIED:20250912T190407Z
UID:4894-1763596800-1763769599@podstawowa.platerki.pl
SUMMARY:Święto Szkoły
DESCRIPTION:
URL:https://podstawowa.platerki.pl/kalendarz/swieto-szkoly-2/
END:VEVENT
BEGIN:VEVENT
DTSTART;VALUE=DATE:20251121
DTEND;VALUE=DATE:20251122
DTSTAMP:20260421T122628
CREATED:20250912T190455Z
LAST-MODIFIED:20250912T190455Z
UID:4896-1763683200-1763769599@podstawowa.platerki.pl
SUMMARY:Cecylkowa Noc klas 4-6
DESCRIPTION:
URL:https://podstawowa.platerki.pl/kalendarz/cecylkowa-noc-klas-4-6/
END:VEVENT
END:VCALENDAR