BEGIN:VCALENDAR
VERSION:2.0
PRODID:-//Podstawowa - ECPv6.15.20//NONSGML v1.0//EN
CALSCALE:GREGORIAN
METHOD:PUBLISH
X-ORIGINAL-URL:https://podstawowa.platerki.pl
X-WR-CALDESC:Wydarzenia dla Podstawowa
REFRESH-INTERVAL;VALUE=DURATION:PT1H
X-Robots-Tag:noindex
X-PUBLISHED-TTL:PT1H
BEGIN:VTIMEZONE
TZID:Europe/Warsaw
BEGIN:DAYLIGHT
TZOFFSETFROM:+0100
TZOFFSETTO:+0200
TZNAME:CEST
DTSTART:20240331T010000
END:DAYLIGHT
BEGIN:STANDARD
TZOFFSETFROM:+0200
TZOFFSETTO:+0100
TZNAME:CET
DTSTART:20241027T010000
END:STANDARD
BEGIN:DAYLIGHT
TZOFFSETFROM:+0100
TZOFFSETTO:+0200
TZNAME:CEST
DTSTART:20250330T010000
END:DAYLIGHT
BEGIN:STANDARD
TZOFFSETFROM:+0200
TZOFFSETTO:+0100
TZNAME:CET
DTSTART:20251026T010000
END:STANDARD
BEGIN:DAYLIGHT
TZOFFSETFROM:+0100
TZOFFSETTO:+0200
TZNAME:CEST
DTSTART:20260329T010000
END:DAYLIGHT
BEGIN:STANDARD
TZOFFSETFROM:+0200
TZOFFSETTO:+0100
TZNAME:CET
DTSTART:20261025T010000
END:STANDARD
BEGIN:DAYLIGHT
TZOFFSETFROM:+0100
TZOFFSETTO:+0200
TZNAME:CEST
DTSTART:20270328T010000
END:DAYLIGHT
BEGIN:STANDARD
TZOFFSETFROM:+0200
TZOFFSETTO:+0100
TZNAME:CET
DTSTART:20271031T010000
END:STANDARD
END:VTIMEZONE
BEGIN:VEVENT
DTSTART;TZID=Europe/Warsaw:20251208T140000
DTEND;TZID=Europe/Warsaw:20251208T180000
DTSTAMP:20260421T110356
CREATED:20251125T164017Z
LAST-MODIFIED:20251207T204307Z
UID:5155-1765202400-1765216800@podstawowa.platerki.pl
SUMMARY:Spotkanie indywidualne (dzień I)
DESCRIPTION:Już 8 grudnia 2025 roku w Platerkach odbędzie się wyjątkowe spotkanie\, podczas którego będziecie mogli poznać naszą szkołę i jej niepowtarzalny charakter. To doskonała okazja\, by na własne oczy zobaczyć zabytkowe mury naszej placówki i poczuć jej niezwykłą atmosferę. \nPodczas wizyty opowiemy o wartościach\, które są dla nas fundamentem w procesie edukacji. W Platerkach wierzymy\, że każde dziecko zasługuje na indywidualne podejście\, rozwój w atmosferze szacunku oraz wsparcie w odkrywaniu swoich talentów. Chcemy\, abyście mogli lepiej zrozumieć\, jak dbamy o rozwój naszych uczniów i dlaczego warto nam zaufać. \nTo spotkanie to także czas na rozmowę i lepsze poznanie Was – rodziców\, którzy odegrają kluczową rolę w drodze edukacyjnej swoich dzieci. Z przyjemnością odpowiemy na Wasze pytania i wysłuchamy Waszych oczekiwań. \nProsimy o wcześniejszy zapis za pomocą panelu znajdującego się z prawej strony\, abyśmy mogli zapewnić każdemu z Państwa indywidualny czas na rozmowę. Czekamy na Was w Platerkach i zapraszamy serdecznie! \n			\n			\n				\n				\n				\n				\n				\n				\n				\n				\n				\n				Dziękujemy za zapisy na pierwsze spotkanie indywidualne! Zapraszamy na spotkania w kolejnej turze!
URL:https://podstawowa.platerki.pl/kalendarz/spotkanie-indywidualne-dzien-i/
END:VEVENT
BEGIN:VEVENT
DTSTART;TZID=Europe/Warsaw:20251209T140000
DTEND;TZID=Europe/Warsaw:20251209T180000
DTSTAMP:20260421T110356
CREATED:20251125T164848Z
LAST-MODIFIED:20251208T115340Z
UID:5161-1765288800-1765303200@podstawowa.platerki.pl
SUMMARY:Spotkanie indywidualne (dzień II)
DESCRIPTION:Już 9 grudnia 2025 roku w Platerkach odbędzie się wyjątkowe spotkanie\, podczas którego będziecie mogli poznać naszą szkołę i jej niepowtarzalny charakter. To doskonała okazja\, by na własne oczy zobaczyć zabytkowe mury naszej placówki i poczuć jej niezwykłą atmosferę. \nPodczas wizyty opowiemy o wartościach\, które są dla nas fundamentem w procesie edukacji. W Platerkach wierzymy\, że każde dziecko zasługuje na indywidualne podejście\, rozwój w atmosferze szacunku oraz wsparcie w odkrywaniu swoich talentów. Chcemy\, abyście mogli lepiej zrozumieć\, jak dbamy o rozwój naszych uczniów i dlaczego warto nam zaufać. \nTo spotkanie to także czas na rozmowę i lepsze poznanie Was – rodziców\, którzy odegrają kluczową rolę w drodze edukacyjnej swoich dzieci. Z przyjemnością odpowiemy na Wasze pytania i wysłuchamy Waszych oczekiwań. \nProsimy o wcześniejszy zapis za pomocą panelu znajdującego się z prawej strony\, abyśmy mogli zapewnić każdemu z Państwa indywidualny czas na rozmowę. Czekamy na Was w Platerkach i zapraszamy serdecznie! \n			\n			\n				\n				\n				\n				\n				\n				\n				\n				\n				\n				W polu „UWAGI” prosimy o wpisanie IMIENIA I NAZWISKA córki/syna\n			\n				\n				\n				\n				\n				 
URL:https://podstawowa.platerki.pl/kalendarz/spotkanie-indywidualne-dzien-ii/
END:VEVENT
BEGIN:VEVENT
DTSTART;VALUE=DATE:20251211
DTEND;VALUE=DATE:20251212
DTSTAMP:20260421T110356
CREATED:20250912T190521Z
LAST-MODIFIED:20250912T190521Z
UID:4898-1765411200-1765497599@podstawowa.platerki.pl
SUMMARY:Szkolne zawody w pływaniu
DESCRIPTION:
URL:https://podstawowa.platerki.pl/kalendarz/szkolne-zawody-w-plywaniu/
END:VEVENT
BEGIN:VEVENT
DTSTART;VALUE=DATE:20251213
DTEND;VALUE=DATE:20251214
DTSTAMP:20260421T110356
CREATED:20250912T190546Z
LAST-MODIFIED:20250912T190546Z
UID:4900-1765584000-1765670399@podstawowa.platerki.pl
SUMMARY:Kiermasz adwentowy i koncert Tatusiów
DESCRIPTION:
URL:https://podstawowa.platerki.pl/kalendarz/kiermasz-adwentowy-i-koncert-tatusiow-2/
END:VEVENT
BEGIN:VEVENT
DTSTART;VALUE=DATE:20251219
DTEND;VALUE=DATE:20251220
DTSTAMP:20260421T110356
CREATED:20250912T190609Z
LAST-MODIFIED:20250912T190609Z
UID:4902-1766102400-1766188799@podstawowa.platerki.pl
SUMMARY:Wigilie klasowe
DESCRIPTION:
URL:https://podstawowa.platerki.pl/kalendarz/wigilie-klasowe/
END:VEVENT
BEGIN:VEVENT
DTSTART;VALUE=DATE:20251222
DTEND;VALUE=DATE:20260107
DTSTAMP:20260421T110356
CREATED:20250912T190638Z
LAST-MODIFIED:20250912T190638Z
UID:4905-1766361600-1767743999@podstawowa.platerki.pl
SUMMARY:Przerwa świąteczna
DESCRIPTION:
URL:https://podstawowa.platerki.pl/kalendarz/przerwa-swiateczna-3/
END:VEVENT
END:VCALENDAR